BEGIN:VCALENDAR
VERSION:2.0
PRODID:-//wp-events-plugin.com//7.2.3.1//EN
TZID:Europe/Berlin
X-WR-TIMEZONE:Europe/Berlin
BEGIN:VEVENT
UID:1370@fsv-rimbach.de
DTSTART;TZID=Europe/Berlin:20260425T093000
DTEND;TZID=Europe/Berlin:20260425T093000
DTSTAMP:20260304T090507Z
URL:https://www.fsv-rimbach.de/veranstaltungen/bambinis-spielefest-22
SUMMARY:Bambinis Spielefest
DESCRIPTION:
LOCATION:Stadion Aschbach\, Sportplatzweg\, Wald-Michelbach\, Deutschland
GEO:49.5754055;8.847676399999955
X-APPLE-STRUCTURED-LOCATION;VALUE=URI;X-ADDRESS=Sportplatzweg\, Wald-Michel
 bach\, Deutschland;X-APPLE-RADIUS=100;X-TITLE=Stadion Aschbach:geo:49.5754
 055,8.847676399999955
END:VEVENT
BEGIN:VTIMEZONE
TZID:Europe/Berlin
X-LIC-LOCATION:Europe/Berlin
BEGIN:DAYLIGHT
DTSTART:20260329T030000
TZOFFSETFROM:+0100
TZOFFSETTO:+0200
TZNAME:CEST
END:DAYLIGHT
END:VTIMEZONE
END:VCALENDAR