BEGIN:VCALENDAR
VERSION:2.0
PRODID:-//wp-events-plugin.com//7.2.3.1//EN
TZID:Europe/Berlin
X-WR-TIMEZONE:Europe/Berlin
BEGIN:VEVENT
UID:1356@fsv-rimbach.de
DTSTART;TZID=Europe/Berlin:20260321T144500
DTEND;TZID=Europe/Berlin:20260321T164500
DTSTAMP:20260303T120400Z
URL:https://www.fsv-rimbach.de/veranstaltungen/c-j-gegen-fv-hofheim-a
SUMMARY:C-J gegen FV Hofheim (A)
DESCRIPTION:
END:VEVENT
BEGIN:VTIMEZONE
TZID:Europe/Berlin
X-LIC-LOCATION:Europe/Berlin
BEGIN:STANDARD
DTSTART:20251026T020000
TZOFFSETFROM:+0200
TZOFFSETTO:+0100
TZNAME:CET
END:STANDARD
END:VTIMEZONE
END:VCALENDAR