BEGIN:VCALENDAR
VERSION:2.0
PRODID:-//wp-events-plugin.com//7.2.3.1//EN
TZID:Europe/Berlin
X-WR-TIMEZONE:Europe/Berlin
BEGIN:VEVENT
UID:1371@fsv-rimbach.de
DTSTART;TZID=Europe/Berlin:20260425T100000
DTEND;TZID=Europe/Berlin:20260425T100000
DTSTAMP:20260304T090540Z
URL:https://www.fsv-rimbach.de/veranstaltungen/f-1-spielefest-11
SUMMARY:F 1 Spielefest
DESCRIPTION:
LOCATION:Sportplatz Affolterbach\, Bahnstraße 30\, Wald-Michelbach\, 69483
 \, Deutschland
GEO:49.59914180000001;8.84731899999997
X-APPLE-STRUCTURED-LOCATION;VALUE=URI;X-ADDRESS=Bahnstraße 30\, Wald-Miche
 lbach\, 69483\, Deutschland;X-APPLE-RADIUS=100;X-TITLE=Sportplatz Affolter
 bach:geo:49.59914180000001,8.84731899999997
END:VEVENT
BEGIN:VTIMEZONE
TZID:Europe/Berlin
X-LIC-LOCATION:Europe/Berlin
BEGIN:DAYLIGHT
DTSTART:20260329T030000
TZOFFSETFROM:+0100
TZOFFSETTO:+0200
TZNAME:CEST
END:DAYLIGHT
END:VTIMEZONE
END:VCALENDAR