BEGIN:VCALENDAR
VERSION:2.0
PRODID:-//wp-events-plugin.com//7.2.3.1//EN
TZID:Europe/Berlin
X-WR-TIMEZONE:Europe/Berlin
BEGIN:VEVENT
UID:860@fsv-rimbach.de
DTSTART;TZID=Europe/Berlin:20231008T130000
DTEND;TZID=Europe/Berlin:20231008T150000
DTSTAMP:20230720T093240Z
URL:https://www.fsv-rimbach.de/veranstaltungen/sv-unter-flockenbach-iii-fs
 v-ii
SUMMARY:SV Unter-Flockenbach III - FSV II
DESCRIPTION:
LOCATION:Stadion Unter-Flockenbach\, Am Wetzelsberg\, Gorxheimertal\, Deuts
 chland
GEO:49.52997209999999;8.72451019999994
X-APPLE-STRUCTURED-LOCATION;VALUE=URI;X-ADDRESS=Am Wetzelsberg\, Gorxheimer
 tal\, Deutschland;X-APPLE-RADIUS=100;X-TITLE=Stadion Unter-Flockenbach:geo
 :49.52997209999999,8.72451019999994
END:VEVENT
BEGIN:VTIMEZONE
TZID:Europe/Berlin
X-LIC-LOCATION:Europe/Berlin
BEGIN:DAYLIGHT
DTSTART:20230326T030000
TZOFFSETFROM:+0100
TZOFFSETTO:+0200
TZNAME:CEST
END:DAYLIGHT
END:VTIMEZONE
END:VCALENDAR