BEGIN:VCALENDAR
VERSION:2.0
PRODID:-//wp-events-plugin.com//7.2.3.1//EN
TZID:Europe/Berlin
X-WR-TIMEZONE:Europe/Berlin
BEGIN:VEVENT
UID:614@fsv-rimbach.de
DTSTART;TZID=Europe/Berlin:20210731T170000
DTEND;TZID=Europe/Berlin:20210731T190000
DTSTAMP:20210719T104654Z
URL:https://www.fsv-rimbach.de/veranstaltungen/tv-crumstadt-dsg-rimbach-au
 erbach
SUMMARY:TV Crumstadt - DSG Rimbach / Auerbach
DESCRIPTION:
LOCATION:Sportplatz Crumstadt\, Friedrich-Ebert-Straße\, Riedstadt\, 64560
 \, Deutschland
X-APPLE-STRUCTURED-LOCATION;VALUE=URI;X-ADDRESS=Friedrich-Ebert-Straße\, R
 iedstadt\, 64560\, Deutschland;X-APPLE-RADIUS=100;X-TITLE=Sportplatz Crums
 tadt:geo:0,0
END:VEVENT
BEGIN:VTIMEZONE
TZID:Europe/Berlin
X-LIC-LOCATION:Europe/Berlin
BEGIN:DAYLIGHT
DTSTART:20210328T030000
TZOFFSETFROM:+0100
TZOFFSETTO:+0200
TZNAME:CEST
END:DAYLIGHT
END:VTIMEZONE
END:VCALENDAR